BEGIN:VCALENDAR
VERSION:2.0
METHOD:PUBLISH
PRODID:-//hacksw/handcal//NONSGML v1.0//EN
BEGIN:VEVENT
DTSTAMP:20210423T133607Z
DTSTART:20211028T090000Z
DTEND:20211028T100000Z
UID:20211028T090000Z-20211028T100000Z-168@pardons.delaware.gov
SUMMARY:Board of Pardons
DESCRIPTION:Accepting Applications.
X-ALT-DESC;FMTTYPE=text/html:<p>Accepting Applications.</p>\n
URL:https://pardons.delaware.gov/events/board-of-pardons-27/
ATTACH:https://pardons.delaware.gov/events/board-of-pardons-27/
LOCATION:Courtroom 1 - Kent County Courthouse\, 414 Federal Street\, D
 over
END:VEVENT
END:VCALENDAR
