BEGIN:VCALENDAR
VERSION:2.0
METHOD:PUBLISH
PRODID:-//hacksw/handcal//NONSGML v1.0//EN
BEGIN:VEVENT
DTSTAMP:20260425T102518Z
DTSTART:20260528T090000Z
DTEND:20260528T235900Z
UID:20260528T090000Z-20260528T235900Z-344@pardons.delaware.gov
SUMMARY:Board of Pardons
DESCRIPTION:Full.
X-ALT-DESC;FMTTYPE=text/html:<p>Full.</p>\n
URL:https://pardons.delaware.gov/events/board-of-pardons-70/?lang=en
ATTACH:https://pardons.delaware.gov/events/board-of-pardons-70/?lang=e
 n
LOCATION:Kent County Courthouse\, 414 Federal Street\, Dover
END:VEVENT
END:VCALENDAR
